BEGIN:VCALENDAR
VERSION:2.0
PRODID:-//wp-events-plugin.com//7.2.3.1//EN
TZID:America/Vancouver
X-WR-TIMEZONE:America/Vancouver
BEGIN:VEVENT
UID:32@langleybeeclub.org
DTSTART;TZID=America/Vancouver:20250415T180000
DTEND;TZID=America/Vancouver:20250415T200000
DTSTAMP:20250410T233801Z
URL:https://langleybeeclub.org/events/bees-%f0%9f%90%9d-beers-%f0%9f%8d%ba
 -social/
SUMMARY:Bees 🐝 & Beers 🍺 Social
DESCRIPTION:Let’s Beek out together and talk bees  informal social gather
 ing
ATTACH;FMTTYPE=image/jpeg:https://langleybeeclub.org/wp-content/uploads/20
 25/04/bees-and-beers-pub.jpg
CATEGORIES:Club Social Event
LOCATION:The Canadian Brewhouse & Grill (Abbotsford)\, 3122 Mount Lehman Ro
 ad\, Abbotsford\, BC\, V4X 2K9\, Highstreet Mall\, Canada
GEO:49.057299;-122.376872
X-APPLE-STRUCTURED-LOCATION;VALUE=URI;X-ADDRESS=3122 Mount Lehman Road\, Ab
 botsford\, BC\, V4X 2K9\, Highstreet Mall\, Canada;X-APPLE-RADIUS=100;X-TI
 TLE=The Canadian Brewhouse & Grill (Abbotsford):geo:49.057299,-122.376872
END:VEVENT
BEGIN:VTIMEZONE
TZID:America/Vancouver
X-LIC-LOCATION:America/Vancouver
BEGIN:DAYLIGHT
DTSTART:20250309T030000
TZOFFSETFROM:-0800
TZOFFSETTO:-0700
TZNAME:PDT
END:DAYLIGHT
END:VTIMEZONE
END:VCALENDAR