BEGIN:VCALENDAR
VERSION:2.0
PRODID:-//wp-events-plugin.com//7.2.3.1//EN
TZID:America/Vancouver
X-WR-TIMEZONE:America/Vancouver
BEGIN:VEVENT
UID:42@langleybeeclub.org
DTSTART;TZID=America/Vancouver:20251028T183000
DTEND;TZID=America/Vancouver:20251028T203000
DTSTAMP:20251008T193733Z
URL:https://langleybeeclub.org/events/bees-n-beers-%f0%9f%90%9d/
SUMMARY:Bees N' Beers 🐝
DESCRIPTION:Join us for a beverage in a casual setting\, meet other local b
 eekeepers\, ask questions\, socialize and beekout. Purchase your own coffe
 e\, tea\, bevy or snacks/meal. 19+ Venue. Let’s Beek out together and ta
 lk bees! 🐝 
ATTACH;FMTTYPE=image/jpeg:https://langleybeeclub.org/wp-content/uploads/20
 25/04/bees-and-beers-pub.jpg
CATEGORIES:Club Social Event
LOCATION:Night Owl Kitchen & Bar\, 19640 64th ave\, Langley\, BC\, V2Y 1H3\
 , Canada
X-APPLE-STRUCTURED-LOCATION;VALUE=URI;X-ADDRESS=19640 64th ave\, Langley\, 
 BC\, V2Y 1H3\, Canada;X-APPLE-RADIUS=100;X-TITLE=Night Owl Kitchen & Bar:g
 eo:0,0
END:VEVENT
BEGIN:VTIMEZONE
TZID:America/Vancouver
X-LIC-LOCATION:America/Vancouver
BEGIN:DAYLIGHT
DTSTART:20250309T030000
TZOFFSETFROM:-0800
TZOFFSETTO:-0700
TZNAME:PDT
END:DAYLIGHT
END:VTIMEZONE
END:VCALENDAR